BEGIN:VCALENDAR
VERSION:2.0
PRODID:-//Indented Head Yacht Club - ECPv4.6.10.1//NONSGML v1.0//EN
CALSCALE:GREGORIAN
METHOD:PUBLISH
X-WR-CALNAME:Indented Head Yacht Club
X-ORIGINAL-URL:http://ihyc.com.au
X-WR-CALDESC:Events for Indented Head Yacht Club
BEGIN:VEVENT
DTSTART;TZID=UTC+0:20180303T093000
DTEND;TZID=UTC+0:20180303T120000
DTSTAMP:20180224T205443
CREATED:20171022T114340Z
LAST-MODIFIED:20171022T114340Z
UID:958-1520069400-1520078400@ihyc.com.au
SUMMARY:Learn To Sail 2018 - Week Five
DESCRIPTION:
URL:http://ihyc.com.au/event/learn-sail-2018-week-five/
CATEGORIES:Training
END:VEVENT
BEGIN:VEVENT
DTSTART;TZID=UTC+0:20180303T135500
DTEND;TZID=UTC+0:20180303T170000
DTSTAMP:20180224T205443
CREATED:20171022T114606Z
LAST-MODIFIED:20171022T114606Z
UID:960-1520085300-1520096400@ihyc.com.au
SUMMARY:Traveller Series
DESCRIPTION:At Royal Geelong Yacht Club \n
URL:http://ihyc.com.au/event/traveller-series/
LOCATION:25 Eastern Beach Road\, Geelong\, Victoria\, 3220\, Australia
CATEGORIES:Racing,Social
END:VEVENT
BEGIN:VEVENT
DTSTART;TZID=UTC+0:20180310T093000
DTEND;TZID=UTC+0:20180310T120000
DTSTAMP:20180224T205443
CREATED:20171022T114828Z
LAST-MODIFIED:20171022T114828Z
UID:963-1520674200-1520683200@ihyc.com.au
SUMMARY:Learn To Sail 2018 - Week Six
DESCRIPTION:
URL:http://ihyc.com.au/event/learn-sail-2018-week-six/
CATEGORIES:Training
END:VEVENT
BEGIN:VEVENT
DTSTART;TZID=UTC+0:20180310T143000
DTEND;TZID=UTC+0:20180310T170000
DTSTAMP:20180224T205443
CREATED:20171022T114908Z
LAST-MODIFIED:20171022T114908Z
UID:965-1520692200-1520701200@ihyc.com.au
SUMMARY:Club Racing - Lady Nelson Cup
DESCRIPTION:2 Races \n
URL:http://ihyc.com.au/event/club-racing-lady-nelson-cup/
CATEGORIES:Racing
END:VEVENT
BEGIN:VEVENT
DTSTART;TZID=UTC+0:20180317T080000
DTEND;TZID=UTC+0:20180317T170000
DTSTAMP:20180224T205443
CREATED:20171022T114944Z
LAST-MODIFIED:20171022T114944Z
UID:967-1521273600-1521306000@ihyc.com.au
SUMMARY:Learn To Sail 2018 - Week Seven
DESCRIPTION:
URL:http://ihyc.com.au/event/learn-sail-2018-week-seven/
CATEGORIES:Training
END:VEVENT
BEGIN:VEVENT
DTSTART;TZID=UTC+0:20180318T103000
DTEND;TZID=UTC+0:20180318T170000
DTSTAMP:20180224T205443
CREATED:20171022T115325Z
LAST-MODIFIED:20171022T115325Z
UID:969-1521369000-1521392400@ihyc.com.au
SUMMARY:Inter-Club Challenge
DESCRIPTION:At St Leonards Yacht Club \nMorning and afternoon races with a BBQ lunch \n
URL:http://ihyc.com.au/event/inter-club-challenge/
LOCATION:1001 Lower Bluff Road\, St Leonards\, Victoria\, 3223\, Australia
CATEGORIES:Racing,Social
END:VEVENT
BEGIN:VEVENT
DTSTART;TZID=UTC+0:20180324T093000
DTEND;TZID=UTC+0:20180324T120000
DTSTAMP:20180224T205443
CREATED:20171022T115423Z
LAST-MODIFIED:20171022T115423Z
UID:972-1521883800-1521892800@ihyc.com.au
SUMMARY:Learn To Sail 2018 - Week Eight
DESCRIPTION:
URL:http://ihyc.com.au/event/learn-sail-2018-week-eight/
CATEGORIES:Training
END:VEVENT
BEGIN:VEVENT
DTSTART;TZID=UTC+0:20180324T143000
DTEND;TZID=UTC+0:20180324T170000
DTSTAMP:20180224T205443
CREATED:20171022T115505Z
LAST-MODIFIED:20171022T115505Z
UID:974-1521901800-1521910800@ihyc.com.au
SUMMARY:Club Racing - Lady Nelson Cup
DESCRIPTION:2 Races \n
URL:http://ihyc.com.au/event/club-racing-lady-nelson-cup-2/
CATEGORIES:Racing
END:VEVENT
BEGIN:VEVENT
DTSTART;TZID=UTC+0:20180331T093000
DTEND;TZID=UTC+0:20180331T120000
DTSTAMP:20180224T205443
CREATED:20171022T115558Z
LAST-MODIFIED:20171022T115558Z
UID:976-1522488600-1522497600@ihyc.com.au
SUMMARY:Learn To Sail 2018 - Week Nine
DESCRIPTION:Final Learn To Sail for the 2017/18 Season \n
URL:http://ihyc.com.au/event/learn-sail-2018-week-nine/
CATEGORIES:Training
END:VEVENT
BEGIN:VEVENT
DTSTART;TZID=UTC+0:20180331T143000
DTEND;TZID=UTC+0:20180331T170000
DTSTAMP:20180224T205443
CREATED:20171022T115634Z
LAST-MODIFIED:20171022T115634Z
UID:978-1522506600-1522515600@ihyc.com.au
SUMMARY:Club Racing - Easter Regatta
DESCRIPTION:2 Races \n
URL:http://ihyc.com.au/event/club-racing-easter-regatta/
CATEGORIES:Racing
END:VEVENT
BEGIN:VEVENT
DTSTART;TZID=UTC+0:20180401T120000
DTEND;TZID=UTC+0:20180401T170000
DTSTAMP:20180224T205443
CREATED:20171022T115831Z
LAST-MODIFIED:20171022T115831Z
UID:980-1522584000-1522602000@ihyc.com.au
SUMMARY:Club Racing - Easter Regatta
DESCRIPTION:Commodore’s Cup \n2 Races \n
URL:http://ihyc.com.au/event/club-racing-easter-regatta-2/
CATEGORIES:Racing
END:VEVENT
BEGIN:VEVENT
DTSTART;TZID=UTC+0:20180402T100000
DTEND;TZID=UTC+0:20180402T120000
DTSTAMP:20180224T205443
CREATED:20171022T115918Z
LAST-MODIFIED:20171022T115918Z
UID:982-1522663200-1522670400@ihyc.com.au
SUMMARY:Club Racing - Easter Regatta
DESCRIPTION:Morning races only \n
URL:http://ihyc.com.au/event/club-racing-easter-regatta-3/
CATEGORIES:Racing
END:VEVENT
BEGIN:VEVENT
DTSTART;TZID=UTC+0:20180408T140000
DTEND;TZID=UTC+0:20180408T170000
DTSTAMP:20180224T205444
CREATED:20171022T115952Z
LAST-MODIFIED:20171022T120023Z
UID:984-1523196000-1523206800@ihyc.com.au
SUMMARY:Club Racing - Lady Nelson Cup
DESCRIPTION:2 Races \n
URL:http://ihyc.com.au/event/club-racing-easter-regatta-4/
CATEGORIES:Racing
END:VEVENT
BEGIN:VEVENT
DTSTART;TZID=UTC+0:20180415T140000
DTEND;TZID=UTC+0:20180415T170000
DTSTAMP:20180224T205444
CREATED:20171022T120102Z
LAST-MODIFIED:20171022T120102Z
UID:987-1523800800-1523811600@ihyc.com.au
SUMMARY:Club Racing - Lady Nelson Cup
DESCRIPTION:Commodore’s Cup \n2 Races \n
URL:http://ihyc.com.au/event/club-racing-lady-nelson-cup-3/
CATEGORIES:Racing
END:VEVENT
BEGIN:VEVENT
DTSTART;TZID=UTC+0:20180422T140000
DTEND;TZID=UTC+0:20180422T170000
DTSTAMP:20180224T205444
CREATED:20171022T120141Z
LAST-MODIFIED:20171022T120141Z
UID:989-1524405600-1524416400@ihyc.com.au
SUMMARY:Club Racing - Re-sail Flinders/Nelson
DESCRIPTION:2 Races \n
URL:http://ihyc.com.au/event/club-racing-re-sail-flindersnelson/
CATEGORIES:Racing
END:VEVENT
BEGIN:VEVENT
DTSTART;TZID=UTC+0:20180429T140000
DTEND;TZID=UTC+0:20180429T170000
DTSTAMP:20180224T205444
CREATED:20171022T120221Z
LAST-MODIFIED:20171022T120713Z
UID:991-1525010400-1525021200@ihyc.com.au
SUMMARY:Club Racing - Mystery Race
DESCRIPTION:2 Races \nFinal Racing for the Season \n
URL:http://ihyc.com.au/event/club-racing-mystery-race/
CATEGORIES:Racing
END:VEVENT
BEGIN:VEVENT
DTSTART;TZID=UTC+0:20180505T120000
DTEND;TZID=UTC+0:20180505T170000
DTSTAMP:20180224T205444
CREATED:20171022T120343Z
LAST-MODIFIED:20171022T120343Z
UID:993-1525521600-1525539600@ihyc.com.au
SUMMARY:Laser Training Camp
DESCRIPTION:
URL:http://ihyc.com.au/event/laser-training-camp/
CATEGORIES:Official,Training
END:VEVENT
BEGIN:VEVENT
DTSTART;VALUE=DATE:20180506
DTEND;VALUE=DATE:20180507
DTSTAMP:20180224T205444
CREATED:20171022T120418Z
LAST-MODIFIED:20171024T100303Z
UID:995-1525564800-1525651199@ihyc.com.au
SUMMARY:Laser Training Camp
DESCRIPTION:
URL:http://ihyc.com.au/event/laser-training-camp-2/
CATEGORIES:Official,Training
END:VEVENT
BEGIN:VEVENT
DTSTART;TZID=UTC+0:20180526T173000
DTEND;TZID=UTC+0:20180526T190000
DTSTAMP:20180224T205444
CREATED:20171022T120525Z
LAST-MODIFIED:20171022T120525Z
UID:997-1527355800-1527361200@ihyc.com.au
SUMMARY:Annual General Meeting
DESCRIPTION:
URL:http://ihyc.com.au/event/annual-general-meeting/
CATEGORIES:Official
END:VEVENT
BEGIN:VEVENT
DTSTART;TZID=UTC+0:20180526T190000
DTEND;TZID=UTC+0:20180526T230000
DTSTAMP:20180224T205444
CREATED:20171022T120639Z
LAST-MODIFIED:20171022T120639Z
UID:999-1527361200-1527375600@ihyc.com.au
SUMMARY:Presentation Night
DESCRIPTION:Presentations for the 2017/18 Season and a Pot Luck Dinner \n
URL:http://ihyc.com.au/event/presentation-night/
CATEGORIES:Official,Social
END:VEVENT
END:VCALENDAR